BEGIN:VCALENDAR
VERSION:2.0
PRODID:-//YouthJazz.us - ECPv6.15.20//NONSGML v1.0//EN
CALSCALE:GREGORIAN
METHOD:PUBLISH
X-WR-CALNAME:YouthJazz.us
X-ORIGINAL-URL:https://youthjazz.us
X-WR-CALDESC:Events for YouthJazz.us
REFRESH-INTERVAL;VALUE=DURATION:PT1H
X-Robots-Tag:noindex
X-PUBLISHED-TTL:PT1H
BEGIN:VTIMEZONE
TZID:America/Chicago
BEGIN:DAYLIGHT
TZOFFSETFROM:-0600
TZOFFSETTO:-0500
TZNAME:CDT
DTSTART:20250309T080000
END:DAYLIGHT
BEGIN:STANDARD
TZOFFSETFROM:-0500
TZOFFSETTO:-0600
TZNAME:CST
DTSTART:20251102T070000
END:STANDARD
BEGIN:DAYLIGHT
TZOFFSETFROM:-0600
TZOFFSETTO:-0500
TZNAME:CDT
DTSTART:20260308T080000
END:DAYLIGHT
BEGIN:STANDARD
TZOFFSETFROM:-0500
TZOFFSETTO:-0600
TZNAME:CST
DTSTART:20261101T070000
END:STANDARD
BEGIN:DAYLIGHT
TZOFFSETFROM:-0600
TZOFFSETTO:-0500
TZNAME:CDT
DTSTART:20270314T080000
END:DAYLIGHT
BEGIN:STANDARD
TZOFFSETFROM:-0500
TZOFFSETTO:-0600
TZNAME:CST
DTSTART:20271107T070000
END:STANDARD
END:VTIMEZONE
BEGIN:VEVENT
DTSTART;TZID=America/Chicago:20260517T133000
DTEND;TZID=America/Chicago:20260517T180000
DTSTAMP:20260423T130429
CREATED:20251228T194830Z
LAST-MODIFIED:20260305T171007Z
UID:12364-1779024600-1779040800@youthjazz.us
SUMMARY:SESSION 6 SEASON 8
DESCRIPTION:Regular weekly assigned ensemble rehearsal. Preparation for album recording sessions\, festivals\, and other community performances. Rehearsals are scheduled for 90-minutes each week but typically may be slightly shorter or longer in reality.
URL:https://youthjazz.us/event/session-6-season-8/
LOCATION:Missouri
CATEGORIES:Weekly Rehearsal
ATTACH;FMTTYPE=image/png:https://youthjazz.us/wp-content/uploads/2025/12/JAZZ-ARTISTRY-NOW-ARTICLE-1-scaled.png
END:VEVENT
END:VCALENDAR