BEGIN:VCALENDAR
VERSION:2.0
PRODID:-//YouthJazz.us - ECPv6.15.20//NONSGML v1.0//EN
CALSCALE:GREGORIAN
METHOD:PUBLISH
X-WR-CALNAME:YouthJazz.us
X-ORIGINAL-URL:https://youthjazz.us
X-WR-CALDESC:Events for YouthJazz.us
REFRESH-INTERVAL;VALUE=DURATION:PT1H
X-Robots-Tag:noindex
X-PUBLISHED-TTL:PT1H
BEGIN:VTIMEZONE
TZID:America/Chicago
BEGIN:DAYLIGHT
TZOFFSETFROM:-0600
TZOFFSETTO:-0500
TZNAME:CDT
DTSTART:20230312T080000
END:DAYLIGHT
BEGIN:STANDARD
TZOFFSETFROM:-0500
TZOFFSETTO:-0600
TZNAME:CST
DTSTART:20231105T070000
END:STANDARD
BEGIN:DAYLIGHT
TZOFFSETFROM:-0600
TZOFFSETTO:-0500
TZNAME:CDT
DTSTART:20240310T080000
END:DAYLIGHT
BEGIN:STANDARD
TZOFFSETFROM:-0500
TZOFFSETTO:-0600
TZNAME:CST
DTSTART:20241103T070000
END:STANDARD
BEGIN:DAYLIGHT
TZOFFSETFROM:-0600
TZOFFSETTO:-0500
TZNAME:CDT
DTSTART:20250309T080000
END:DAYLIGHT
BEGIN:STANDARD
TZOFFSETFROM:-0500
TZOFFSETTO:-0600
TZNAME:CST
DTSTART:20251102T070000
END:STANDARD
END:VTIMEZONE
BEGIN:VEVENT
DTSTART;VALUE=DATE:20240825
DTEND;VALUE=DATE:20240826
DTSTAMP:20260421T104410
CREATED:20240819T160005Z
LAST-MODIFIED:20240819T161013Z
UID:9785-1724544000-1724630399@youthjazz.us
SUMMARY:(VOCAL ENSEMBLE) RECORDING SESSION 2024 FELLOWS ALBUM
DESCRIPTION:Congratulations and THANKS to everyone.\n\n\n\n \n\n\nWeek 17 of 17: The 2024 Fellowship of the Kansas City Area Youth Jazz program officially concludes with its 2024 FELLOWS album recording sessions on July 28\, 2024. The album features the Watson Ensemble\, the Crain Ensemble\, and the Brady Vocal Ensemble which will be recorded on August 25\, 2024 to finish the process.\n_____\nBRADY VOCAL ENSEMBLE FELLOWS\n\nCoordination with BRC Audio Productions will be made between the Brady Ensemble Clinicians: Rev. WM Thornton and Maurice Butler and William Crain. Questions and inquiries should be directed to the clinicians and not the studio.\n\n\n_____\n\n\nThe Next Generation.\n*\n\n\nWe conduct rigorous auditions for Fellowships in February and announce the selections in March each year. Rehearsals are on Sunday evenings during our season of April\, May\, June\, and July with no rehearsals on Labor Day or Fourth of July weekends. Youth Jazz Fellows perform a Showcase Concert in July and also perform paid performances in the greater KC area community. Commitment to attend all rehearsals and performances is required. The season culminates in recording an album in a professional recording studio that’s released worldwide on a professional record label. We have capacity for four ensembles.\n_____\n\n\n2025 Fellowship Auditions.\n*\n\n\nAuditions for Fellowships are held the third Sunday each February beginning at 3:00 pm in 15 minute increments. Candidates SHOULD call our office at (913) 250-5141 and leave a message with: (1) name and instrument\, (2) mobile phone number\, and (3) preferred time.\n_____\n\n\nVisit the YouthJazz.us website to learn more and get involved!
URL:https://youthjazz.us/event/vocal-ensemble-recording-session-2024-fellows-album/
LOCATION:BRC Audio Productions\, 1933 N 10th Street\, Kansas City\, KS\, 66104\, United States
CATEGORIES:Recording Session
ATTACH;FMTTYPE=image/png:https://youthjazz.us/wp-content/uploads/2024/05/2024-FELLOWS-ALBUM-v2-copy.png
END:VEVENT
END:VCALENDAR