BEGIN:VCALENDAR
VERSION:2.0
PRODID:-//YouthJazz.us - ECPv6.15.20//NONSGML v1.0//EN
CALSCALE:GREGORIAN
METHOD:PUBLISH
X-WR-CALNAME:YouthJazz.us
X-ORIGINAL-URL:https://youthjazz.us
X-WR-CALDESC:Events for YouthJazz.us
REFRESH-INTERVAL;VALUE=DURATION:PT1H
X-Robots-Tag:noindex
X-PUBLISHED-TTL:PT1H
BEGIN:VTIMEZONE
TZID:America/Chicago
BEGIN:DAYLIGHT
TZOFFSETFROM:-0600
TZOFFSETTO:-0500
TZNAME:CDT
DTSTART:20210314T080000
END:DAYLIGHT
BEGIN:STANDARD
TZOFFSETFROM:-0500
TZOFFSETTO:-0600
TZNAME:CST
DTSTART:20211107T070000
END:STANDARD
BEGIN:DAYLIGHT
TZOFFSETFROM:-0600
TZOFFSETTO:-0500
TZNAME:CDT
DTSTART:20220313T080000
END:DAYLIGHT
BEGIN:STANDARD
TZOFFSETFROM:-0500
TZOFFSETTO:-0600
TZNAME:CST
DTSTART:20221106T070000
END:STANDARD
BEGIN:DAYLIGHT
TZOFFSETFROM:-0600
TZOFFSETTO:-0500
TZNAME:CDT
DTSTART:20230312T080000
END:DAYLIGHT
BEGIN:STANDARD
TZOFFSETFROM:-0500
TZOFFSETTO:-0600
TZNAME:CST
DTSTART:20231105T070000
END:STANDARD
BEGIN:DAYLIGHT
TZOFFSETFROM:-0600
TZOFFSETTO:-0500
TZNAME:CDT
DTSTART:20240310T080000
END:DAYLIGHT
BEGIN:STANDARD
TZOFFSETFROM:-0500
TZOFFSETTO:-0600
TZNAME:CST
DTSTART:20241103T070000
END:STANDARD
BEGIN:DAYLIGHT
TZOFFSETFROM:-0600
TZOFFSETTO:-0500
TZNAME:CDT
DTSTART:20250309T080000
END:DAYLIGHT
BEGIN:STANDARD
TZOFFSETFROM:-0500
TZOFFSETTO:-0600
TZNAME:CST
DTSTART:20251102T070000
END:STANDARD
BEGIN:DAYLIGHT
TZOFFSETFROM:-0600
TZOFFSETTO:-0500
TZNAME:CDT
DTSTART:20260308T080000
END:DAYLIGHT
BEGIN:STANDARD
TZOFFSETFROM:-0500
TZOFFSETTO:-0600
TZNAME:CST
DTSTART:20261101T070000
END:STANDARD
END:VTIMEZONE
BEGIN:VEVENT
DTSTART;TZID=America/Chicago:20250816T140000
DTEND;TZID=America/Chicago:20250816T170000
DTSTAMP:20260423T074442
CREATED:20250805T232352Z
LAST-MODIFIED:20250805T232504Z
UID:11607-1755352800-1755363600@youthjazz.us
SUMMARY:The Jazz Ensemble Directors Reading Band
DESCRIPTION:
URL:https://youthjazz.us/event/the-jazz-ensemble-directors-reading-band/
LOCATION:American Jazz Museum\, 1616 E 18th Street\, Kansas City\, Missouri\, United States
CATEGORIES:Special Event,Spotlight Charlie Parker
ATTACH;FMTTYPE=image/png:https://youthjazz.us/wp-content/uploads/2021/05/Spotlight_CP_NOyear_Logo-1.png
ORGANIZER;CN="MIKE PARKINSON%2C TRINITY JAZZ ENSEMBLE":MAILTO:TrinityJazzEnsemble2021@gmail.com
END:VEVENT
BEGIN:VEVENT
DTSTART;VALUE=DATE:20220827
DTEND;VALUE=DATE:20220828
DTSTAMP:20260423T074442
CREATED:20220710T170919Z
LAST-MODIFIED:20220710T171058Z
UID:7323-1661558400-1661644799@youthjazz.us
SUMMARY:BIRD BOOT CAMP + MUSICAL SALUTE
DESCRIPTION:2022 BIRD BOOT CAMP ITINERARY HIGHLIGHTS – VISIT BirdBootCamp.org  \n \nCOMMUNITY PARTNERS (3 CLASSROOMS – CHOIR\, BAND\, ORCHESTRA) \n\nMUSIC EDUCATORS FROM KCPS PROGRAMS (CLINICIANS – GUIDES)\n\nCAMP SPOTLIGHT (MAIN STAGE) \n\nOPENING: DR. MARSHALL + PASEO PRINCIPLE\, BILL MULLIN + STEVE HARGRAVE KCJA\nMORGAN FAW AND THE FLAME (ARTIST IN RESIDENCE\, Q&A CLINIC\, AND CONCERT )\nTWO STUDENT ENSEMBLES LEARNING ABOUT CHARLIE PARKER’S MUSIC (SMITH AND WILDER)\nCLARENCE SMITH (RAFFLE PRIZE EMCEE + AND MORGAN FAW INTERVIEW)\nPRIZES OF BIRD BOOT CAMP T-SHIRTS (MEYER MUSIC) + VARIOUS RETAIL PRODUCTS\nGRAND PRIZE OF FINALE PRO MUSIC NOTATION SOFTWARE – FULL LICENSED VERSION (VALUE $600)\n\nVOCAL TRACK (RECITAL HALL) \n\nPROF. JOHN STAFFORD AND KCKCC VOCAL JAZZ ENSEMBLE (OPEN REHEARSAL CLINIC)\nREV. WILL THORNTON AND PASEO JAZZ CHOIR (OPEN REHEARSAL CLINIC)\n\nEDUCATION TRACK (MAIN STAGE) \n\nGREG CARROLL (INTERACTIVE JAZZ CLINIC WITH VIP JAZZ ENSEMBLE)\nCHUCK HADDIX (BIRD SCHOLARSHIP AND KEYNOTE ADDRESS)\n\nINSTRUMENTAL TRACK (MAIN STAGE) \n\nHOUSTON SMITH (VIP SAXOPHONIST\, CLINICIAN\, AND ENSEMBLE DIRECTOR)\nROGER WILDER (VIP PIANIST\, CLINICIAN\, AND ENSEMBLE DIRECTOR)\n\nINDUSTRY TRACK (BLACK BOX) \n\nDAVID BASSE (CELEBRITY GUEST – JAZZ RADIO)\nB.J. JANSEN\, MBA (BUSINESS CLINIC – JEN CLINICIAN)\n\nCELEBRITY GUEST ARTISTS (MAIN STAGE) \n\nJAMES WARD (EDUCATOR\, CLINICIAN – VIP BASS PLAYER)\nJAYLEN WARD (RECORDING ARTIST – VIP DRUM SET PLAYER)\nROD FLEEMAN (VIP GUITARIST)
URL:https://youthjazz.us/event/bird-boot-camp-musical-salute/
LOCATION:The Paseo Academy of Fine and Performing Arts\, 4747 Flora\, Kansas City\, MO\, 64110\, United States
CATEGORIES:Bird Boot Camp,Special Event,Spotlight Charlie Parker
ATTACH;FMTTYPE=image/png:https://youthjazz.us/wp-content/uploads/2020/03/birdbootcamp-transparent.png
END:VEVENT
END:VCALENDAR