BEGIN:VCALENDAR
VERSION:2.0
PRODID:-//YouthJazz.us - ECPv6.15.20//NONSGML v1.0//EN
CALSCALE:GREGORIAN
METHOD:PUBLISH
X-WR-CALNAME:YouthJazz.us
X-ORIGINAL-URL:https://youthjazz.us
X-WR-CALDESC:Events for YouthJazz.us
REFRESH-INTERVAL;VALUE=DURATION:PT1H
X-Robots-Tag:noindex
X-PUBLISHED-TTL:PT1H
BEGIN:VTIMEZONE
TZID:America/Chicago
BEGIN:DAYLIGHT
TZOFFSETFROM:-0600
TZOFFSETTO:-0500
TZNAME:CDT
DTSTART:20210314T080000
END:DAYLIGHT
BEGIN:STANDARD
TZOFFSETFROM:-0500
TZOFFSETTO:-0600
TZNAME:CST
DTSTART:20211107T070000
END:STANDARD
BEGIN:DAYLIGHT
TZOFFSETFROM:-0600
TZOFFSETTO:-0500
TZNAME:CDT
DTSTART:20220313T080000
END:DAYLIGHT
BEGIN:STANDARD
TZOFFSETFROM:-0500
TZOFFSETTO:-0600
TZNAME:CST
DTSTART:20221106T070000
END:STANDARD
BEGIN:DAYLIGHT
TZOFFSETFROM:-0600
TZOFFSETTO:-0500
TZNAME:CDT
DTSTART:20230312T080000
END:DAYLIGHT
BEGIN:STANDARD
TZOFFSETFROM:-0500
TZOFFSETTO:-0600
TZNAME:CST
DTSTART:20231105T070000
END:STANDARD
END:VTIMEZONE
BEGIN:VEVENT
DTSTART;TZID=America/Chicago:20220515T150000
DTEND;TZID=America/Chicago:20220515T163000
DTSTAMP:20260424T114444
CREATED:20220215T181903Z
LAST-MODIFIED:20220215T181903Z
UID:6286-1652626800-1652632200@youthjazz.us
SUMMARY:The Brady Ensemble Rehearsal
DESCRIPTION:THE BRADY ENSEMBLE\n@ THE PASEO ACADEMY (3:00 PM TO 4:30 PM)\nKansas City Public Schools has specific protocols for their facilities.
URL:https://youthjazz.us/event/the-brady-ensemble-rehearsal-7/
LOCATION:The Paseo Academy of Fine and Performing Arts\, 4747 Flora\, Kansas City\, MO\, 64110\, United States
CATEGORIES:Weekly Rehearsal
ATTACH;FMTTYPE=image/jpeg:https://youthjazz.us/wp-content/uploads/2022/02/1230-COMBO.jpg
END:VEVENT
BEGIN:VEVENT
DTSTART;TZID=America/Chicago:20220508T170000
DTEND;TZID=America/Chicago:20220508T183000
DTSTAMP:20260424T114444
CREATED:20220216T201702Z
LAST-MODIFIED:20220216T201702Z
UID:6421-1652029200-1652034600@youthjazz.us
SUMMARY:The Watson Ensemble
DESCRIPTION:THE WATSON ENSEMBLE\n@ BRC AUDIO PRODUCTIONS (5:00 PM TO 6:30 PM)\nBRC Audio Productions requires that everyone participating in the 2022 season be fully vaccinated – having the recommended booster is a plus. We also require that everyone produce a negative test prior to attending their first rehearsal. If someone displays or develops any COVID-19 symptoms during the season\, they will need to test negative before coming in person again and be willing to practice their individual musical parts at home in the interim.
URL:https://youthjazz.us/event/the-watson-ensemble-2/
LOCATION:BRC Audio Productions\, 1933 N 10th Street\, Kansas City\, KS\, 66104\, United States
CATEGORIES:Weekly Rehearsal
ATTACH;FMTTYPE=image/jpeg:https://youthjazz.us/wp-content/uploads/2022/02/IMG_0670-scaled.jpeg
END:VEVENT
BEGIN:VEVENT
DTSTART;TZID=America/Chicago:20220508T170000
DTEND;TZID=America/Chicago:20220508T183000
DTSTAMP:20260424T114444
CREATED:20220216T190851Z
LAST-MODIFIED:20220216T190851Z
UID:6370-1652029200-1652034600@youthjazz.us
SUMMARY:The Smith Ensemble Rehearsal
DESCRIPTION:THE SMITH ENSEMBLE\n@ THE PASEO ACADEMY (5:00 PM TO 6:30 PM)\nKansas City Public Schools has specific protocols for their facilities.
URL:https://youthjazz.us/event/the-smith-ensemble-rehearsal-6/
LOCATION:The Paseo Academy of Fine and Performing Arts\, 4747 Flora\, Kansas City\, MO\, 64110\, United States
CATEGORIES:Weekly Rehearsal
ATTACH;FMTTYPE=image/jpeg:https://youthjazz.us/wp-content/uploads/2022/02/1201D21F-CA79-4DFD-9E2A-C0BB0DB769C4-2048x1536-1.jpeg
END:VEVENT
BEGIN:VEVENT
DTSTART;TZID=America/Chicago:20220508T150000
DTEND;TZID=America/Chicago:20220508T163000
DTSTAMP:20260424T114444
CREATED:20220215T200836Z
LAST-MODIFIED:20220215T200836Z
UID:6332-1652022000-1652027400@youthjazz.us
SUMMARY:The Crain Ensemble Rehearsal
DESCRIPTION:THE CRAIN ENSEMBLE\n@ BRC AUDIO PRODUCTIONS (3:00 PM TO 4:30 PM)\nBRC Audio Productions requires that everyone participating in the 2022 season be fully vaccinated – having the recommended booster is a plus. We also require that everyone produce a negative test prior to attending their first rehearsal. If someone displays or develops any COVID-19 symptoms during the season\, they will need to test negative before coming in person again and be willing to practice their individual musical parts at home in the interim.
URL:https://youthjazz.us/event/the-crain-ensemble-rehearsal-6/
LOCATION:BRC Audio Productions\, 1933 N 10th Street\, Kansas City\, KS\, 66104\, United States
CATEGORIES:Weekly Rehearsal
ATTACH;FMTTYPE=image/jpeg:https://youthjazz.us/wp-content/uploads/2019/07/IMG_0144.jpeg
END:VEVENT
BEGIN:VEVENT
DTSTART;TZID=America/Chicago:20220508T150000
DTEND;TZID=America/Chicago:20220508T163000
DTSTAMP:20260424T114444
CREATED:20220215T180828Z
LAST-MODIFIED:20220215T181144Z
UID:6283-1652022000-1652027400@youthjazz.us
SUMMARY:The Brady Ensemble Rehearsal
DESCRIPTION:THE BRADY ENSEMBLE\n@ THE PASEO ACADEMY (3:00 PM TO 4:30 PM)\nKansas City Public Schools has specific protocols for their facilities.
URL:https://youthjazz.us/event/the-brady-ensemble-rehearsal-6/
LOCATION:The Paseo Academy of Fine and Performing Arts\, 4747 Flora\, Kansas City\, MO\, 64110\, United States
CATEGORIES:Weekly Rehearsal
ATTACH;FMTTYPE=image/jpeg:https://youthjazz.us/wp-content/uploads/2022/02/Leon-Brady-at-KBA.jpg
END:VEVENT
BEGIN:VEVENT
DTSTART;TZID=America/Chicago:20220504T163000
DTEND;TZID=America/Chicago:20220504T200000
DTSTAMP:20260424T114444
CREATED:20220429T135704Z
LAST-MODIFIED:20220503T133052Z
UID:7080-1651681800-1651694400@youthjazz.us
SUMMARY:COMMUNITY PERFORMANCE EVENT: Kansas Creative Arts Industries Commission
DESCRIPTION:Kansas Creative Arts Industries Commission (KCAIC) is in the process of engaging communities throughout Kansas in the creation of a strategic plan focused on developing creative and cultural resources as an essential catalyst for innovation and community revitalization. \nTo best develop and deploy resources for public good and social impact\, a successful plan will re-imagine the place culture holds in Kansas communities; expand the role the arts play in achieving local priorities; build and support statewide infrastructure for the creative sector; and outline broad\, high-impact strategies that Kansans see as necessary for individuals and communities to thrive. \n \nThis is a community event where selected Kansas City Area Youth Jazz Fellows will provide music. Each individual artist will be paid our standard rate for musical work. In booking these types of industry opportunities musicians are selected with the best interest of the clients and the program in mind. Please note that all paid performances are accepted by the organization as part of the mission and any musician assignments are made “as is” at the sole discretion of Mr. Burnett\, the Artistic Director. \nNOTE: As a nonprofit organization Burnett Music Foundation manages financial transactions of this type transparently with the primary goal of paying the artists for their work. \n 
URL:https://youthjazz.us/event/community-performance-event-kansas-creative-arts-industries-commission/
LOCATION:Strawberry Hill Museum and Cultural Center\, 720 N 4th Street\, Kansas City\, KS\, 66101\, United States
CATEGORIES:Paid Gig,Special Event
ATTACH;FMTTYPE=image/jpeg:https://youthjazz.us/wp-content/uploads/2022/04/DEC_KCK_072_FD0E3AB0-5056-B3A8-497BC645AB3AE53A_fd182674-5056-b3a8-49df765cf9f7ce64.jpg
END:VEVENT
BEGIN:VEVENT
DTSTART;TZID=America/Chicago:20220501T170000
DTEND;TZID=America/Chicago:20220501T183000
DTSTAMP:20260424T114444
CREATED:20220216T201555Z
LAST-MODIFIED:20220216T201555Z
UID:6416-1651424400-1651429800@youthjazz.us
SUMMARY:The Watson Ensemble
DESCRIPTION:THE WATSON ENSEMBLE\n@ BRC AUDIO PRODUCTIONS (5:00 PM TO 6:30 PM)\nBRC Audio Productions requires that everyone participating in the 2022 season be fully vaccinated – having the recommended booster is a plus. We also require that everyone produce a negative test prior to attending their first rehearsal. If someone displays or develops any COVID-19 symptoms during the season\, they will need to test negative before coming in person again and be willing to practice their individual musical parts at home in the interim.
URL:https://youthjazz.us/event/the-watson-ensemble/
LOCATION:BRC Audio Productions\, 1933 N 10th Street\, Kansas City\, KS\, 66104\, United States
CATEGORIES:Weekly Rehearsal
ATTACH;FMTTYPE=image/jpeg:https://youthjazz.us/wp-content/uploads/2022/02/IMG_0673-scaled.jpeg
END:VEVENT
BEGIN:VEVENT
DTSTART;TZID=America/Chicago:20220501T170000
DTEND;TZID=America/Chicago:20220501T183000
DTSTAMP:20260424T114444
CREATED:20220216T190647Z
LAST-MODIFIED:20220216T190647Z
UID:6367-1651424400-1651429800@youthjazz.us
SUMMARY:The Smith Ensemble Rehearsal
DESCRIPTION:THE SMITH ENSEMBLE\n@ THE PASEO ACADEMY (5:00 PM TO 6:30 PM)\nKansas City Public Schools has specific protocols for their facilities.
URL:https://youthjazz.us/event/the-smith-ensemble-rehearsal-5/
LOCATION:The Paseo Academy of Fine and Performing Arts\, 4747 Flora\, Kansas City\, MO\, 64110\, United States
CATEGORIES:Weekly Rehearsal
ATTACH;FMTTYPE=image/jpeg:https://youthjazz.us/wp-content/uploads/2022/02/B4DF750A-CD61-400A-AA32-3A0A085B49CB-2048x2048-1.jpeg
END:VEVENT
BEGIN:VEVENT
DTSTART;TZID=America/Chicago:20220501T150000
DTEND;TZID=America/Chicago:20220501T163000
DTSTAMP:20260424T114444
CREATED:20220215T200301Z
LAST-MODIFIED:20220215T200301Z
UID:6330-1651417200-1651422600@youthjazz.us
SUMMARY:The Crain Ensemble Rehearsal
DESCRIPTION:THE CRAIN ENSEMBLE\n@ BRC AUDIO PRODUCTIONS (3:00 PM TO 4:30 PM)\nBRC Audio Productions requires that everyone participating in the 2022 season be fully vaccinated – having the recommended booster is a plus. We also require that everyone produce a negative test prior to attending their first rehearsal. If someone displays or develops any COVID-19 symptoms during the season\, they will need to test negative before coming in person again and be willing to practice their individual musical parts at home in the interim.
URL:https://youthjazz.us/event/the-crain-ensemble-rehearsal-5/
LOCATION:BRC Audio Productions\, 1933 N 10th Street\, Kansas City\, KS\, 66104\, United States
CATEGORIES:Weekly Rehearsal
ATTACH;FMTTYPE=image/jpeg:https://youthjazz.us/wp-content/uploads/2021/05/BILL-CRAIN-BY-STEVE-BUTLER.jpg
END:VEVENT
BEGIN:VEVENT
DTSTART;TZID=America/Chicago:20220501T150000
DTEND;TZID=America/Chicago:20220501T163000
DTSTAMP:20260424T114444
CREATED:20220215T180453Z
LAST-MODIFIED:20220215T180453Z
UID:6281-1651417200-1651422600@youthjazz.us
SUMMARY:The Brady Ensemble Rehearsal
DESCRIPTION:THE BRADY ENSEMBLE\n@ THE PASEO ACADEMY (3:00 PM TO 4:30 PM)\nKansas City Public Schools has specific protocols for their facilities.
URL:https://youthjazz.us/event/the-brady-ensemble-rehearsal-5/
LOCATION:The Paseo Academy of Fine and Performing Arts\, 4747 Flora\, Kansas City\, MO\, 64110\, United States
CATEGORIES:Weekly Rehearsal
ATTACH;FMTTYPE=image/jpeg:https://youthjazz.us/wp-content/uploads/2021/07/KCYouthJazzFaculty.jpg
END:VEVENT
BEGIN:VEVENT
DTSTART;TZID=America/Chicago:20220424T170000
DTEND;TZID=America/Chicago:20220424T183000
DTSTAMP:20260424T114444
CREATED:20220216T195531Z
LAST-MODIFIED:20220421T151430Z
UID:6413-1650819600-1650825000@youthjazz.us
SUMMARY:NO REHEARSAL: The Watson Ensemble
DESCRIPTION:THE WATSON ENSEMBLE\n@ BRC AUDIO PRODUCTIONS (5:00 PM TO 6:30 PM)\nBRC Audio Productions requires that everyone participating in the 2022 season be fully vaccinated – having the recommended booster is a plus. We also require that everyone produce a negative test prior to attending their first rehearsal. If someone displays or develops any COVID-19 symptoms during the season\, they will need to test negative before coming in person again and be willing to practice their individual musical parts at home in the interim. \n(All members are on the gig.)
URL:https://youthjazz.us/event/the-watson-ensemble-rehearsal-4/
LOCATION:BRC Audio Productions\, 1933 N 10th Street\, Kansas City\, KS\, 66104\, United States
CATEGORIES:NO REHEARSAL,Weekly Rehearsal
ATTACH;FMTTYPE=image/jpeg:https://youthjazz.us/wp-content/uploads/2022/02/108_Bobby-Watson_Smoke-Sessions-by-John-Abbott-copy-square.jpg
END:VEVENT
BEGIN:VEVENT
DTSTART;TZID=America/Chicago:20220424T170000
DTEND;TZID=America/Chicago:20220424T183000
DTSTAMP:20260424T114444
CREATED:20220216T190316Z
LAST-MODIFIED:20220216T190316Z
UID:6365-1650819600-1650825000@youthjazz.us
SUMMARY:The Smith Ensemble Rehearsal
DESCRIPTION:THE SMITH ENSEMBLE\n@ THE PASEO ACADEMY (5:00 PM TO 6:30 PM)\nKansas City Public Schools has specific protocols for their facilities.
URL:https://youthjazz.us/event/the-smith-ensemble-rehearsal-4/
LOCATION:The Paseo Academy of Fine and Performing Arts\, 4747 Flora\, Kansas City\, MO\, 64110\, United States
CATEGORIES:Weekly Rehearsal
ATTACH;FMTTYPE=image/jpeg:https://youthjazz.us/wp-content/uploads/2021/07/IMG_3822-scaled.jpeg
END:VEVENT
BEGIN:VEVENT
DTSTART;TZID=America/Chicago:20220424T150000
DTEND;TZID=America/Chicago:20220424T163000
DTSTAMP:20260424T114444
CREATED:20220215T200033Z
LAST-MODIFIED:20220421T151134Z
UID:6328-1650812400-1650817800@youthjazz.us
SUMMARY:The Crain Ensemble Rehearsal
DESCRIPTION:THE CRAIN ENSEMBLE\n@ BRC AUDIO PRODUCTIONS (3:00 PM TO 4:30 PM)\nBRC Audio Productions requires that everyone participating in the 2022 season be fully vaccinated – having the recommended booster is a plus. We also require that everyone produce a negative test prior to attending their first rehearsal. If someone displays or develops any COVID-19 symptoms during the season\, they will need to test negative before coming in person again and be willing to practice their individual musical parts at home in the interim. \n(Jordan F. on gig)
URL:https://youthjazz.us/event/the-crain-ensemble-rehearsal-4/
LOCATION:BRC Audio Productions\, 1933 N 10th Street\, Kansas City\, KS\, 66104\, United States
CATEGORIES:Weekly Rehearsal
ATTACH;FMTTYPE=image/jpeg:https://youthjazz.us/wp-content/uploads/2019/07/IMG_0089.jpeg
END:VEVENT
BEGIN:VEVENT
DTSTART;TZID=America/Chicago:20220424T150000
DTEND;TZID=America/Chicago:20220424T163000
DTSTAMP:20260424T114444
CREATED:20220215T180034Z
LAST-MODIFIED:20220421T151020Z
UID:6279-1650812400-1650817800@youthjazz.us
SUMMARY:The Brady Ensemble Rehearsal
DESCRIPTION:THE BRADY ENSEMBLE\n@ THE PASEO ACADEMY (3:00 PM TO 4:30 PM)\nKansas City Public Schools has specific protocols for their facilities. \n(Ari S. and Blue N. on gig)
URL:https://youthjazz.us/event/the-brady-ensemble-rehearsal-4/
LOCATION:The Paseo Academy of Fine and Performing Arts\, 4747 Flora\, Kansas City\, MO\, 64110\, United States
CATEGORIES:Weekly Rehearsal
ATTACH;FMTTYPE=image/jpeg:https://youthjazz.us/wp-content/uploads/2021/06/3454DB9A-5D7B-4569-86E2-82DD76198120-scaled.jpeg
END:VEVENT
BEGIN:VEVENT
DTSTART;TZID=America/Chicago:20220424T120000
DTEND;TZID=America/Chicago:20220424T160000
DTSTAMP:20260424T114444
CREATED:20220214T193817Z
LAST-MODIFIED:20220401T214455Z
UID:6233-1650801600-1650816000@youthjazz.us
SUMMARY:Private Event
DESCRIPTION:This is a private event where two selected Kansas City Area Youth Jazz Fellows Ensembles will provide two one hour sets each of music. Each individual artist will be paid our standard rate for the one hour of musical work. In booking these types of industry opportunities musicians are selected with the best interest of the clients and the program in mind. Please note that all paid performances are accepted and any musician assignments are made “as is“ at the sole discretion of Mr. Burnett\, the Artistic Director.
URL:https://youthjazz.us/event/private-event/
LOCATION:The View at Briarcliff\, 4000 N. Mulberry Drive\, Kansas City\, MO\, 64116\, United States
CATEGORIES:Paid Gig,Special Event
ATTACH;FMTTYPE=image/jpeg:https://youthjazz.us/wp-content/uploads/2022/02/The-View-3.jpg
END:VEVENT
BEGIN:VEVENT
DTSTART;VALUE=DATE:20220417
DTEND;VALUE=DATE:20220418
DTSTAMP:20260424T114444
CREATED:20220215T175754Z
LAST-MODIFIED:20220316T211436Z
UID:6277-1650153600-1650239999@youthjazz.us
SUMMARY:EASTER SUNDAY / NO REHEARSALS
DESCRIPTION:EASTER SUNDAY / NO REHEARSALS
URL:https://youthjazz.us/event/the-brady-ensemble-rehearsal-3/
LOCATION:MO
CATEGORIES:NO REHEARSAL
ATTACH;FMTTYPE=image/jpeg:https://youthjazz.us/wp-content/uploads/2022/02/Before-the-Storm-ZF-3958-62041-1-001-scaled.jpg
END:VEVENT
BEGIN:VEVENT
DTSTART;TZID=America/Chicago:20220416T150000
DTEND;TZID=America/Chicago:20220416T160000
DTSTAMP:20260424T114444
CREATED:20220219T183340Z
LAST-MODIFIED:20220401T215257Z
UID:6580-1650121200-1650124800@youthjazz.us
SUMMARY:ARC Jam Session at 424 Lounge
DESCRIPTION:Selected Kansas City Area Youth Jazz Fellows (piano\, bass and drums) for one hour (3:00pm to 4:00pm) as Next Generation Staff at the ARC Jam Session at 424 Lounge in Leavenworth\, Kansas. This program is curated once a month between April and October each year by Artists Recording Collective label recording artists\, B.J. Jansen and Dr. Mike Pagan. This is an opportunity for next generation artists to perform and mentor less experienced jazz players in a community setting. The April session concurrently celebrates both International Jazz Day and Jazz Appreciation Month! #JAZZDAY \nARC’s B.J. Jansen (Bari sax) performing in concert with Duane Eubanks and Delfayo Marsalis\n  Note: This is a paid situation and all Youth Jazz clinicians are assigned accordingly by Mr. B.
URL:https://youthjazz.us/event/arc-jam-session-at-424-lounge/
LOCATION:424 Lounge\, 424 Cherokee\, Leavenworth\, KS\, 66048\, United States
CATEGORIES:424 Jam Session,Paid Gig
ATTACH;FMTTYPE=image/png:https://youthjazz.us/wp-content/uploads/2022/02/JazzJam_2022_WEB.png
END:VEVENT
BEGIN:VEVENT
DTSTART;TZID=America/Chicago:20220410T170000
DTEND;TZID=America/Chicago:20220410T183000
DTSTAMP:20260424T114444
CREATED:20220216T195027Z
LAST-MODIFIED:20220217T164504Z
UID:6406-1649610000-1649615400@youthjazz.us
SUMMARY:The Watson Ensemble Rehearsal
DESCRIPTION:THE WATSON ENSEMBLE\n@ BRC AUDIO PRODUCTIONS (5:00 PM TO 6:30 PM)\nBRC Audio Productions requires that everyone participating in the 2022 season be fully vaccinated – having the recommended booster is a plus. We also require that everyone produce a negative test prior to attending their first rehearsal. If someone displays or develops any COVID-19 symptoms during the season\, they will need to test negative before coming in person again and be willing to practice their individual musical parts at home in the interim.
URL:https://youthjazz.us/event/the-watson-ensemble-rehearsal-2/
LOCATION:BRC Audio Productions\, 1933 N 10th Street\, Kansas City\, KS\, 66104\, United States
CATEGORIES:Weekly Rehearsal
ATTACH;FMTTYPE=image/jpeg:https://youthjazz.us/wp-content/uploads/2022/02/BIRD2007.jpg
END:VEVENT
BEGIN:VEVENT
DTSTART;TZID=America/Chicago:20220410T170000
DTEND;TZID=America/Chicago:20220410T183000
DTSTAMP:20260424T114444
CREATED:20220216T185703Z
LAST-MODIFIED:20220216T185703Z
UID:6359-1649610000-1649615400@youthjazz.us
SUMMARY:The Smith Ensemble Rehearsal
DESCRIPTION:THE SMITH ENSEMBLE\n@ THE PASEO ACADEMY (5:00 PM TO 6:30 PM)\nKansas City Public Schools has specific protocols for their facilities.
URL:https://youthjazz.us/event/the-smith-ensemble-rehearsal-2/
LOCATION:The Paseo Academy of Fine and Performing Arts\, 4747 Flora\, Kansas City\, MO\, 64110\, United States
CATEGORIES:Weekly Rehearsal
ATTACH;FMTTYPE=image/jpeg:https://youthjazz.us/wp-content/uploads/2022/02/IMG_4134-2048x1536-1.jpeg
END:VEVENT
BEGIN:VEVENT
DTSTART;TZID=America/Chicago:20220410T150000
DTEND;TZID=America/Chicago:20220410T163000
DTSTAMP:20260424T114444
CREATED:20220215T195448Z
LAST-MODIFIED:20220215T200342Z
UID:6324-1649602800-1649608200@youthjazz.us
SUMMARY:The Crain Ensemble Rehearsal
DESCRIPTION:THE CRAIN ENSEMBLE\n@ BRC AUDIO PRODUCTIONS (3:00 PM TO 4:30 PM)\nBRC Audio Productions requires that everyone participating in the 2022 season be fully vaccinated – having the recommended booster is a plus. We also require that everyone produce a negative test prior to attending their first rehearsal. If someone displays or develops any COVID-19 symptoms during the season\, they will need to test negative before coming in person again and be willing to practice their individual musical parts at home in the interim.
URL:https://youthjazz.us/event/the-crain-ensemble-rehearsal-2/
LOCATION:BRC Audio Productions\, 1933 N 10th Street\, Kansas City\, KS\, 66104\, United States
CATEGORIES:Weekly Rehearsal
ATTACH;FMTTYPE=image/jpeg:https://youthjazz.us/wp-content/uploads/2019/07/IMG_0129.jpeg
END:VEVENT
BEGIN:VEVENT
DTSTART;TZID=America/Chicago:20220410T150000
DTEND;TZID=America/Chicago:20220410T163000
DTSTAMP:20260424T114444
CREATED:20220215T175607Z
LAST-MODIFIED:20220215T175818Z
UID:6275-1649602800-1649608200@youthjazz.us
SUMMARY:The Brady Ensemble Rehearsal
DESCRIPTION:THE BRADY ENSEMBLE\n@ THE PASEO ACADEMY (3:00 PM TO 4:30 PM)\nKansas City Public Schools has specific protocols for their facilities.
URL:https://youthjazz.us/event/the-brady-ensemble-rehearsal-2/
LOCATION:The Paseo Academy of Fine and Performing Arts\, 4747 Flora\, Kansas City\, MO\, 64110\, United States
CATEGORIES:Weekly Rehearsal
ATTACH;FMTTYPE=image/jpeg:https://youthjazz.us/wp-content/uploads/2021/06/3454DB9A-5D7B-4569-86E2-82DD76198120-scaled.jpeg
END:VEVENT
BEGIN:VEVENT
DTSTART;TZID=America/Chicago:20220403T170000
DTEND;TZID=America/Chicago:20220403T183000
DTSTAMP:20260424T114444
CREATED:20220215T173213Z
LAST-MODIFIED:20220221T201805Z
UID:6273-1649005200-1649010600@youthjazz.us
SUMMARY:The Watson Ensemble PHOTOS + SEASON BRIEFING AT BRC AUDIO PRODUCTIONS
DESCRIPTION:THE WATSON ENSEMBLE PHOTOS + SEASON BRIEFING AT BRC AUDIO PRODUCTIONS (5:00 PM TO 6:30 PM)\nBRC Audio Productions requires that everyone participating in the 2022 season be fully vaccinated – having the recommended booster is a plus. We also require that everyone produce a negative test prior to attending their first rehearsal. If someone displays or develops any COVID-19 symptoms during the season\, they will need to test negative before coming in person again and be willing to practice their individual musical parts at home in the interim.
URL:https://youthjazz.us/event/the-watson-ensemble-rehearsal/
LOCATION:BRC Audio Productions\, 1933 N 10th Street\, Kansas City\, KS\, 66104\, United States
CATEGORIES:Photos + Season Briefing,Weekly Rehearsal
ATTACH;FMTTYPE=image/jpeg:https://youthjazz.us/wp-content/uploads/2021/07/IMG_3754-scaled.jpeg
END:VEVENT
BEGIN:VEVENT
DTSTART;TZID=America/Chicago:20220403T170000
DTEND;TZID=America/Chicago:20220403T183000
DTSTAMP:20260424T114444
CREATED:20220215T172459Z
LAST-MODIFIED:20220221T202020Z
UID:6269-1649005200-1649010600@youthjazz.us
SUMMARY:The Smith Ensemble PHOTOS + SEASON BRIEFING AT BRC AUDIO PRODUCTIONS
DESCRIPTION:THE SMITH ENSEMBLE PHOTOS + SEASON BRIEFING AT BRC AUDIO PRODUCTIONS (5:00 PM TO 6:30 PM)
URL:https://youthjazz.us/event/the-smith-ensemble-rehearsal/
LOCATION:BRC Audio Productions\, 1933 N 10th Street\, Kansas City\, KS\, 66104\, United States
CATEGORIES:Photos + Season Briefing,Weekly Rehearsal
ATTACH;FMTTYPE=image/jpeg:https://youthjazz.us/wp-content/uploads/2021/07/IMG_3755-scaled.jpeg
END:VEVENT
BEGIN:VEVENT
DTSTART;TZID=America/Chicago:20220403T150000
DTEND;TZID=America/Chicago:20220403T163000
DTSTAMP:20260424T114444
CREATED:20220215T172946Z
LAST-MODIFIED:20220221T201459Z
UID:6271-1648998000-1649003400@youthjazz.us
SUMMARY:The Crain Ensemble PHOTOS + SEASON BRIEFING AT BRC AUDIO PRODUCTIONS
DESCRIPTION:THE CRAIN ENSEMBLE PHOTOS + SEASON BRIEFING AT BRC AUDIO PRODUCTIONS (3:00 PM TO 4:30 PM)\nBRC Audio Productions requires that everyone participating in the 2022 season be fully vaccinated – having the recommended booster is a plus. We also require that everyone produce a negative test prior to attending their first rehearsal. If someone displays or develops any COVID-19 symptoms during the season\, they will need to test negative before coming in person again and be willing to practice their individual musical parts at home in the interim.
URL:https://youthjazz.us/event/the-crain-ensemble-rehearsal/
LOCATION:BRC Audio Productions\, 1933 N 10th Street\, Kansas City\, KS\, 66104\, United States
CATEGORIES:Photos + Season Briefing,Weekly Rehearsal
ATTACH;FMTTYPE=image/jpeg:https://youthjazz.us/wp-content/uploads/2021/07/IMG_3754-scaled.jpeg
END:VEVENT
BEGIN:VEVENT
DTSTART;TZID=America/Chicago:20220403T150000
DTEND;TZID=America/Chicago:20220403T163000
DTSTAMP:20260424T114444
CREATED:20220215T171911Z
LAST-MODIFIED:20220221T202204Z
UID:6263-1648998000-1649003400@youthjazz.us
SUMMARY:The Brady Ensemble PHOTOS + SEASON BRIEFING AT BRC AUDIO PRODUCTIONS
DESCRIPTION:THE BRADY ENSEMBLE PHOTOS + SEASON BRIEFING AT BRC AUDIO PRODUCTIONS (3:00 PM TO 4:30 PM)
URL:https://youthjazz.us/event/the-brady-ensemble-rehearsal/
LOCATION:BRC Audio Productions\, 1933 N 10th Street\, Kansas City\, KS\, 66104\, United States
CATEGORIES:Photos + Season Briefing,Weekly Rehearsal
ATTACH;FMTTYPE=image/jpeg:https://youthjazz.us/wp-content/uploads/2021/07/IMG_3755-scaled.jpeg
END:VEVENT
BEGIN:VEVENT
DTSTART;TZID=America/Chicago:20220227T150000
DTEND;TZID=America/Chicago:20220227T190000
DTSTAMP:20260424T114444
CREATED:20220214T201624Z
LAST-MODIFIED:20220214T201624Z
UID:6250-1645974000-1645988400@youthjazz.us
SUMMARY:2022 FELLOWSHIPS AUDITIONS
DESCRIPTION:Sunday\, February 27\n\n3:00 pm – Mateo Navarro\, Alto Sax\n3:15 pm – Joshua Rivera\, Tenor Sax\n3:30 pm – Asa Martin\, Trombone\n3:45 pm – Parker Woolworth\, Piano\n4:00 pm – Jordan Faught\, Bass\n4:15 pm – Isaac Pieters\, Bass\n4:30 pm – Daniel Gardner\, Alto Sax\n4:45 pm – Sam Panico\, Trumpet\n\n5:00 pm – Josh McKeague\, Trumpet\n5:15 pm – Jacob Fry\, Vox + Piano\n5:30 pm – West McElhany\, Tenor Sax\n5:45 pm – Henry Scamurra\, Alto Sax\n6:00 pm – Logan Smoot\, Trumpet\n6:15 pm – Kenny Watson\, Drums\n6:30 pm – Cash McElhany\, Drums\n6:45 pm – Leah DeGarmo\, Trumpet\n7:00 pm – Will Elling\, Trombone
URL:https://youthjazz.us/event/2022-fellowships-auditions/
LOCATION:BRC Audio Productions\, 1933 N 10th Street\, Kansas City\, KS\, 66104\, United States
CATEGORIES:Fellowship Auditions
ATTACH;FMTTYPE=image/jpeg:https://youthjazz.us/wp-content/uploads/2021/05/178569867_10222165068368760_6800087113320327139_n.jpg
END:VEVENT
BEGIN:VEVENT
DTSTART;TZID=America/Chicago:20220220T150000
DTEND;TZID=America/Chicago:20220220T183000
DTSTAMP:20260424T114444
CREATED:20220214T195422Z
LAST-MODIFIED:20220214T203137Z
UID:6245-1645369200-1645381800@youthjazz.us
SUMMARY:2022 FELLOWSHIPS AUDITIONS
DESCRIPTION:Sunday\, February 20\n\n3:00 pm – Miles Clemons\, Piano\n3:15 pm – Ethan Gaul\, Tenor Sax\n3:30 pm – Nick Walker\, Alto Sax\n3:45 pm – Sam Walker\, Piano\n4:00 pm – Jackson Harrison\, Tenor Sax\n4:15 pm – Brett Carter\, Drums\n4:30 pm – Austin Cummings\, Drums\n4:45 pm – Josh McKeague\, Trumpet\n\n5:00 pm – Maurice Butler\, Drums\n5:15 pm – Henry Fears\, Trombone\n5:30 pm – Zane Noyes\, Drums\n5:45 pm – Ari Staggs\, Piano\n6:00 pm – Ari Staggs\, Bass\n6:15 pm – Nathan Crews\, Bass\n6:30 pm – Carter Beucher\, Tenor Sax
URL:https://youthjazz.us/event/2022-fellowship-audition/
LOCATION:BRC Audio Productions\, 1933 N 10th Street\, Kansas City\, KS\, 66104\, United States
CATEGORIES:Fellowship Auditions
ATTACH;FMTTYPE=image/jpeg:https://youthjazz.us/wp-content/uploads/2021/05/IMG_0692-scaled.jpeg
END:VEVENT
END:VCALENDAR