BEGIN:VCALENDAR
VERSION:2.0
PRODID:-//YouthJazz.us - ECPv6.15.20//NONSGML v1.0//EN
CALSCALE:GREGORIAN
METHOD:PUBLISH
X-WR-CALNAME:YouthJazz.us
X-ORIGINAL-URL:https://youthjazz.us
X-WR-CALDESC:Events for YouthJazz.us
REFRESH-INTERVAL;VALUE=DURATION:PT1H
X-Robots-Tag:noindex
X-PUBLISHED-TTL:PT1H
BEGIN:VTIMEZONE
TZID:America/Chicago
BEGIN:DAYLIGHT
TZOFFSETFROM:-0600
TZOFFSETTO:-0500
TZNAME:CDT
DTSTART:20250309T080000
END:DAYLIGHT
BEGIN:STANDARD
TZOFFSETFROM:-0500
TZOFFSETTO:-0600
TZNAME:CST
DTSTART:20251102T070000
END:STANDARD
BEGIN:DAYLIGHT
TZOFFSETFROM:-0600
TZOFFSETTO:-0500
TZNAME:CDT
DTSTART:20260308T080000
END:DAYLIGHT
BEGIN:STANDARD
TZOFFSETFROM:-0500
TZOFFSETTO:-0600
TZNAME:CST
DTSTART:20261101T070000
END:STANDARD
BEGIN:DAYLIGHT
TZOFFSETFROM:-0600
TZOFFSETTO:-0500
TZNAME:CDT
DTSTART:20270314T080000
END:DAYLIGHT
BEGIN:STANDARD
TZOFFSETFROM:-0500
TZOFFSETTO:-0600
TZNAME:CST
DTSTART:20271107T070000
END:STANDARD
END:VTIMEZONE
BEGIN:VEVENT
DTSTART;TZID=America/Chicago:20260614T133000
DTEND;TZID=America/Chicago:20260614T180000
DTSTAMP:20260423T191132
CREATED:20251228T195927Z
LAST-MODIFIED:20260305T171446Z
UID:12372-1781443800-1781460000@youthjazz.us
SUMMARY:SESSION 10 SEASON 8
DESCRIPTION:Regular weekly assigned ensemble rehearsal. Preparation for album recording sessions\, festivals\, and other community performances. Rehearsals are scheduled for 90-minutes each week but typically may be slightly shorter or longer in reality.
URL:https://youthjazz.us/event/session-10-season-8/
CATEGORIES:Weekly Rehearsal
ATTACH;FMTTYPE=image/jpeg:https://youthjazz.us/wp-content/uploads/2025/10/HGTV-EPISODE-2024-KCAYJ-1-scaled.jpg
END:VEVENT
BEGIN:VEVENT
DTSTART;TZID=America/Chicago:20260621T133000
DTEND;TZID=America/Chicago:20260621T180000
DTSTAMP:20260423T191132
CREATED:20251228T200315Z
LAST-MODIFIED:20260305T171548Z
UID:12374-1782048600-1782064800@youthjazz.us
SUMMARY:SESSION 11 SEASON 8
DESCRIPTION:Regular weekly assigned ensemble rehearsal. Preparation for album recording sessions\, festivals\, and other community performances. Rehearsals are scheduled for 90-minutes each week but typically may be slightly shorter or longer in reality.
URL:https://youthjazz.us/event/session-11-season-8/
CATEGORIES:Weekly Rehearsal
ATTACH;FMTTYPE=image/png:https://youthjazz.us/wp-content/uploads/2025/12/2018-Horizontal-Logo-white-on-black-with-url-1-scaled.png
END:VEVENT
BEGIN:VEVENT
DTSTART;TZID=America/Chicago:20260628T133000
DTEND;TZID=America/Chicago:20260628T180000
DTSTAMP:20260423T191132
CREATED:20251228T200850Z
LAST-MODIFIED:20260305T171710Z
UID:12377-1782653400-1782669600@youthjazz.us
SUMMARY:SESSION 12 SEASON 8
DESCRIPTION:Regular weekly assigned ensemble rehearsal. Preparation for album recording sessions\, festivals\, and other community performances. Rehearsals are scheduled for 90-minutes each week but typically may be slightly shorter or longer in reality.
URL:https://youthjazz.us/event/session-12-season-8/
CATEGORIES:Weekly Rehearsal
ATTACH;FMTTYPE=image/jpeg:https://youthjazz.us/wp-content/uploads/2025/05/IMG_6559-scaled.jpeg
END:VEVENT
BEGIN:VEVENT
DTSTART;TZID=America/Chicago:20260712T133000
DTEND;TZID=America/Chicago:20260712T180000
DTSTAMP:20260423T191132
CREATED:20251228T201404Z
LAST-MODIFIED:20260305T171800Z
UID:12379-1783863000-1783879200@youthjazz.us
SUMMARY:SESSION 13 SEASON 8
DESCRIPTION:Regular weekly assigned ensemble rehearsal. Preparation for album recording sessions\, festivals\, and other community performances. Rehearsals are scheduled for 90-minutes each week but typically may be slightly shorter or longer in reality.
URL:https://youthjazz.us/event/session-13-season-8/
CATEGORIES:Weekly Rehearsal
ATTACH;FMTTYPE=image/jpeg:https://youthjazz.us/wp-content/uploads/2025/08/IMG_8497-scaled.jpeg
END:VEVENT
BEGIN:VEVENT
DTSTART;TZID=America/Chicago:20260719T133000
DTEND;TZID=America/Chicago:20260719T180000
DTSTAMP:20260423T191132
CREATED:20251228T202901Z
LAST-MODIFIED:20260305T171906Z
UID:12381-1784467800-1784484000@youthjazz.us
SUMMARY:SESSION 14 SEASON 8
DESCRIPTION:Ensemble Dress Rehearsals for the Recording Sessions \n\n\n\n\n\n\n\nRegular weekly assigned ensemble rehearsal. Preparation for album recording sessions\, festivals\, and other community performances. Rehearsals are scheduled for 90-minutes each week but typically may be slightly shorter or longer in reality.
URL:https://youthjazz.us/event/session-14-season-8/
CATEGORIES:Recording Session Dress Rehearsal,Weekly Rehearsal
ATTACH;FMTTYPE=image/jpeg:https://youthjazz.us/wp-content/uploads/2022/05/IMG_6024.jpeg
END:VEVENT
BEGIN:VEVENT
DTSTART;TZID=America/Chicago:20260726T000000
DTEND;TZID=America/Chicago:20260726T235959
DTSTAMP:20260423T191132
CREATED:20251228T204558Z
LAST-MODIFIED:20251228T204719Z
UID:12383-1785024000-1785110399@youthjazz.us
SUMMARY:2026 FELLOWS ALBUM RECORDING SESSIONS
DESCRIPTION:See the detailed production time schedule for the specifics that will apply to your ensemble. Make note of call times and other unique details from your specific ensemble clinicians. Thanks. \n\n\n\n\n\n\n\nThe 2026 FELLOWS album is the 8th professionally recorded and commercially released album by the Youth Jazz program. This music is available worldwide at all of the platforms. \n\n\n\n\n\n\n\nTITLE: 2025 Fellows (ARC-0906)
URL:https://youthjazz.us/event/2026-fellows-album-recording-sessions/
CATEGORIES:Recording Session
ATTACH;FMTTYPE=image/png:https://youthjazz.us/wp-content/uploads/2025/08/2026-FELLOWS-1200x1200-1.png
END:VEVENT
END:VCALENDAR