BEGIN:VCALENDAR
VERSION:2.0
PRODID:-//YouthJazz.us - ECPv6.15.20//NONSGML v1.0//EN
CALSCALE:GREGORIAN
METHOD:PUBLISH
X-WR-CALNAME:YouthJazz.us
X-ORIGINAL-URL:https://youthjazz.us
X-WR-CALDESC:Events for YouthJazz.us
REFRESH-INTERVAL;VALUE=DURATION:PT1H
X-Robots-Tag:noindex
X-PUBLISHED-TTL:PT1H
BEGIN:VTIMEZONE
TZID:America/Chicago
BEGIN:DAYLIGHT
TZOFFSETFROM:-0600
TZOFFSETTO:-0500
TZNAME:CDT
DTSTART:20250309T080000
END:DAYLIGHT
BEGIN:STANDARD
TZOFFSETFROM:-0500
TZOFFSETTO:-0600
TZNAME:CST
DTSTART:20251102T070000
END:STANDARD
BEGIN:DAYLIGHT
TZOFFSETFROM:-0600
TZOFFSETTO:-0500
TZNAME:CDT
DTSTART:20260308T080000
END:DAYLIGHT
BEGIN:STANDARD
TZOFFSETFROM:-0500
TZOFFSETTO:-0600
TZNAME:CST
DTSTART:20261101T070000
END:STANDARD
BEGIN:DAYLIGHT
TZOFFSETFROM:-0600
TZOFFSETTO:-0500
TZNAME:CDT
DTSTART:20270314T080000
END:DAYLIGHT
BEGIN:STANDARD
TZOFFSETFROM:-0500
TZOFFSETTO:-0600
TZNAME:CST
DTSTART:20271107T070000
END:STANDARD
END:VTIMEZONE
BEGIN:VEVENT
DTSTART;TZID=America/Chicago:20260503T133000
DTEND;TZID=America/Chicago:20260503T180000
DTSTAMP:20260423T114933
CREATED:20251228T194322Z
LAST-MODIFIED:20260305T170720Z
UID:12360-1777815000-1777831200@youthjazz.us
SUMMARY:SESSION 4 SEASON 8
DESCRIPTION:Regular weekly assigned ensemble rehearsal. Preparation for album recording sessions\, festivals\, and other community performances. Rehearsals are scheduled for 90-minutes each week but typically may be slightly shorter or longer in reality.
URL:https://youthjazz.us/event/session-4-season-8/
LOCATION:Missouri
ATTACH;FMTTYPE=image/jpeg:https://youthjazz.us/wp-content/uploads/2025/08/IMG_8566-scaled-e1763598103732.jpeg
END:VEVENT
BEGIN:VEVENT
DTSTART;TZID=America/Chicago:20260510T133000
DTEND;TZID=America/Chicago:20260510T180000
DTSTAMP:20260423T114933
CREATED:20251228T194620Z
LAST-MODIFIED:20260305T170906Z
UID:12362-1778419800-1778436000@youthjazz.us
SUMMARY:SESSION 5 SEASON 8
DESCRIPTION:Regular weekly assigned ensemble rehearsal. Preparation for album recording sessions\, festivals\, and other community performances. Rehearsals are scheduled for 90-minutes each week but typically may be slightly shorter or longer in reality.
URL:https://youthjazz.us/event/session-5-season-8/
LOCATION:Missouri
CATEGORIES:Weekly Rehearsal
ATTACH;FMTTYPE=image/jpeg:https://youthjazz.us/wp-content/uploads/2025/01/ARTSKC.jpg
END:VEVENT
BEGIN:VEVENT
DTSTART;TZID=America/Chicago:20260517T133000
DTEND;TZID=America/Chicago:20260517T180000
DTSTAMP:20260423T114933
CREATED:20251228T194830Z
LAST-MODIFIED:20260305T171007Z
UID:12364-1779024600-1779040800@youthjazz.us
SUMMARY:SESSION 6 SEASON 8
DESCRIPTION:Regular weekly assigned ensemble rehearsal. Preparation for album recording sessions\, festivals\, and other community performances. Rehearsals are scheduled for 90-minutes each week but typically may be slightly shorter or longer in reality.
URL:https://youthjazz.us/event/session-6-season-8/
LOCATION:Missouri
CATEGORIES:Weekly Rehearsal
ATTACH;FMTTYPE=image/png:https://youthjazz.us/wp-content/uploads/2025/12/JAZZ-ARTISTRY-NOW-ARTICLE-1-scaled.png
END:VEVENT
BEGIN:VEVENT
DTSTART;TZID=America/Chicago:20260524T133000
DTEND;TZID=America/Chicago:20260524T180000
DTSTAMP:20260423T114933
CREATED:20251228T195056Z
LAST-MODIFIED:20260305T171122Z
UID:12366-1779629400-1779645600@youthjazz.us
SUMMARY:SESSION 7 SEASON 8
DESCRIPTION:Regular weekly assigned ensemble rehearsal. Preparation for album recording sessions\, festivals\, and other community performances. Rehearsals are scheduled for 90-minutes each week but typically may be slightly shorter or longer in reality.
URL:https://youthjazz.us/event/session-7-season-8/
LOCATION:Missouri
CATEGORIES:Weekly Rehearsal
ATTACH;FMTTYPE=image/jpeg:https://youthjazz.us/wp-content/uploads/2025/11/IMG_8304-scaled.jpeg
END:VEVENT
BEGIN:VEVENT
DTSTART;TZID=America/Chicago:20260531T133000
DTEND;TZID=America/Chicago:20260531T180000
DTSTAMP:20260423T114933
CREATED:20251228T195355Z
LAST-MODIFIED:20260305T171236Z
UID:12368-1780234200-1780250400@youthjazz.us
SUMMARY:SESSION 8 SEASON 8
DESCRIPTION:Regular weekly assigned ensemble rehearsal. Preparation for album recording sessions\, festivals\, and other community performances. Rehearsals are scheduled for 90-minutes each week but typically may be slightly shorter or longer in reality.
URL:https://youthjazz.us/event/session-8-season-8/
LOCATION:Missouri
CATEGORIES:Weekly Rehearsal
ATTACH;FMTTYPE=image/jpeg:https://youthjazz.us/wp-content/uploads/2025/08/IMG_8493-scaled-e1763599599117.jpeg
END:VEVENT
END:VCALENDAR